BEGIN:VCALENDAR
VERSION:2.0
PRODID:-//The NH Recovery Hub - ECPv6.15.20//NONSGML v1.0//EN
CALSCALE:GREGORIAN
METHOD:PUBLISH
X-ORIGINAL-URL:https://www.nhrecovery.org
X-WR-CALDESC:Events for The NH Recovery Hub
REFRESH-INTERVAL;VALUE=DURATION:PT1H
X-Robots-Tag:noindex
X-PUBLISHED-TTL:PT1H
BEGIN:VTIMEZONE
TZID:America/New_York
BEGIN:DAYLIGHT
TZOFFSETFROM:-0500
TZOFFSETTO:-0400
TZNAME:EDT
DTSTART:20240310T070000
END:DAYLIGHT
BEGIN:STANDARD
TZOFFSETFROM:-0400
TZOFFSETTO:-0500
TZNAME:EST
DTSTART:20241103T060000
END:STANDARD
BEGIN:DAYLIGHT
TZOFFSETFROM:-0500
TZOFFSETTO:-0400
TZNAME:EDT
DTSTART:20250309T070000
END:DAYLIGHT
BEGIN:STANDARD
TZOFFSETFROM:-0400
TZOFFSETTO:-0500
TZNAME:EST
DTSTART:20251102T060000
END:STANDARD
BEGIN:DAYLIGHT
TZOFFSETFROM:-0500
TZOFFSETTO:-0400
TZNAME:EDT
DTSTART:20260308T070000
END:DAYLIGHT
BEGIN:STANDARD
TZOFFSETFROM:-0400
TZOFFSETTO:-0500
TZNAME:EST
DTSTART:20261101T060000
END:STANDARD
END:VTIMEZONE
BEGIN:VEVENT
DTSTART;TZID=America/New_York:20251201T090000
DTEND;TZID=America/New_York:20251202T170000
DTSTAMP:20260425T183808
CREATED:20251017T145132Z
LAST-MODIFIED:20251017T145132Z
UID:10000013-1764579600-1764694800@www.nhrecovery.org
SUMMARY:Ethical Considerations for Peer-Assisted Recovery
DESCRIPTION:2 day class for individuals who work as peers in recovery support services to provide knowledge and understanding of ethical decision-making \nFind all events offered by the Archways Forever Hope Training Center. Topics offered include\, but are not limited to: \n\nThe Art & Science of Peer Assisted Recovery\nEthical Considerations for Peer Assisted Recovery\nHIV\, AIDS & Hepatitis for Peer Assisted Recovery\nSuicide Prevention for Peer Assisted Recovery\nCo-Occurring Disorders for Peer Assisted Recovery\n\nExplore all events 
URL:https://www.nhrecovery.org/event/ethical-considerations-for-peer-assisted-recovery/
LOCATION:Online
CATEGORIES:Ethical Considerations
END:VEVENT
END:VCALENDAR