BEGIN:VCALENDAR
VERSION:2.0
PRODID:-//The NH Recovery Hub - ECPv6.15.20//NONSGML v1.0//EN
CALSCALE:GREGORIAN
METHOD:PUBLISH
X-ORIGINAL-URL:https://www.nhrecovery.org
X-WR-CALDESC:Events for The NH Recovery Hub
REFRESH-INTERVAL;VALUE=DURATION:PT1H
X-Robots-Tag:noindex
X-PUBLISHED-TTL:PT1H
BEGIN:VTIMEZONE
TZID:America/New_York
BEGIN:DAYLIGHT
TZOFFSETFROM:-0500
TZOFFSETTO:-0400
TZNAME:EDT
DTSTART:20250309T070000
END:DAYLIGHT
BEGIN:STANDARD
TZOFFSETFROM:-0400
TZOFFSETTO:-0500
TZNAME:EST
DTSTART:20251102T060000
END:STANDARD
BEGIN:DAYLIGHT
TZOFFSETFROM:-0500
TZOFFSETTO:-0400
TZNAME:EDT
DTSTART:20260308T070000
END:DAYLIGHT
BEGIN:STANDARD
TZOFFSETFROM:-0400
TZOFFSETTO:-0500
TZNAME:EST
DTSTART:20261101T060000
END:STANDARD
BEGIN:DAYLIGHT
TZOFFSETFROM:-0500
TZOFFSETTO:-0400
TZNAME:EDT
DTSTART:20270314T070000
END:DAYLIGHT
BEGIN:STANDARD
TZOFFSETFROM:-0400
TZOFFSETTO:-0500
TZNAME:EST
DTSTART:20271107T060000
END:STANDARD
END:VTIMEZONE
BEGIN:VEVENT
DTSTART;VALUE=DATE:20260422
DTEND;VALUE=DATE:20260424
DTSTAMP:20260425T124527
CREATED:20251017T141650Z
LAST-MODIFIED:20251017T141650Z
UID:10000011-1776816000-1776988799@www.nhrecovery.org
SUMMARY:6th Annual RICH Conference at DoubleTree Hotel\, Manchester\, NH
DESCRIPTION:SOS Recovery Community Organization is presenting the 6th annual RICH conference.  Northeast’s premier peer-recovery & harm reduction conference.  The conference will include nationally recognized keynotes that will present on innovations in peer-based recovery supports and harm reduction with a focus on diversity\, equity and inclusion.  This conference will include nationally recognized keynote speakers and  breakouts over 2 days surrounding the theme of the conference. \nThis conference will attract leaders and advocates within the prevention\, treatment\, recovery\, and harm reduction communities across New England as well as health care providers\, clinical staffs\, licensed professionals\, mental health professionals\, agency staff\, social service providers\, educators\, first-responders and local\, state and federal policy makers and legislators. The conference will also attract individuals and family members impacted by substance use disorder\, people who use drugs\, people who identify as sex workers\, and allies of the recovery and harm reduction community. \nRegistration\, tickets\, and more information available at: https://sosrco.org/events-calendars/2026-rich-conference/ 
URL:https://www.nhrecovery.org/event/6th-annual-rich-conference-at-doubletree-hotel-manchester-nh/
LOCATION:DoubleTree by Hilton\, Manchester\, New Hampshire
CATEGORIES:Conferences & Community
END:VEVENT
END:VCALENDAR