BEGIN:VCALENDAR
VERSION:2.0
PRODID:-//The NH Recovery Hub - ECPv6.15.20//NONSGML v1.0//EN
CALSCALE:GREGORIAN
METHOD:PUBLISH
X-WR-CALNAME:The NH Recovery Hub
X-ORIGINAL-URL:https://www.nhrecovery.org
X-WR-CALDESC:Events for The NH Recovery Hub
REFRESH-INTERVAL;VALUE=DURATION:PT1H
X-Robots-Tag:noindex
X-PUBLISHED-TTL:PT1H
BEGIN:VTIMEZONE
TZID:America/New_York
BEGIN:DAYLIGHT
TZOFFSETFROM:-0500
TZOFFSETTO:-0400
TZNAME:EDT
DTSTART:20240310T070000
END:DAYLIGHT
BEGIN:STANDARD
TZOFFSETFROM:-0400
TZOFFSETTO:-0500
TZNAME:EST
DTSTART:20241103T060000
END:STANDARD
BEGIN:DAYLIGHT
TZOFFSETFROM:-0500
TZOFFSETTO:-0400
TZNAME:EDT
DTSTART:20250309T070000
END:DAYLIGHT
BEGIN:STANDARD
TZOFFSETFROM:-0400
TZOFFSETTO:-0500
TZNAME:EST
DTSTART:20251102T060000
END:STANDARD
BEGIN:DAYLIGHT
TZOFFSETFROM:-0500
TZOFFSETTO:-0400
TZNAME:EDT
DTSTART:20260308T070000
END:DAYLIGHT
BEGIN:STANDARD
TZOFFSETFROM:-0400
TZOFFSETTO:-0500
TZNAME:EST
DTSTART:20261101T060000
END:STANDARD
END:VTIMEZONE
BEGIN:VEVENT
DTSTART;TZID=America/New_York:20251201T090000
DTEND;TZID=America/New_York:20251202T170000
DTSTAMP:20260425T171539
CREATED:20251017T145132Z
LAST-MODIFIED:20251017T145132Z
UID:10000013-1764579600-1764694800@www.nhrecovery.org
SUMMARY:Ethical Considerations for Peer-Assisted Recovery
DESCRIPTION:2 day class for individuals who work as peers in recovery support services to provide knowledge and understanding of ethical decision-making \nFind all events offered by the Archways Forever Hope Training Center. Topics offered include\, but are not limited to: \n\nThe Art & Science of Peer Assisted Recovery\nEthical Considerations for Peer Assisted Recovery\nHIV\, AIDS & Hepatitis for Peer Assisted Recovery\nSuicide Prevention for Peer Assisted Recovery\nCo-Occurring Disorders for Peer Assisted Recovery\n\nExplore all events 
URL:https://www.nhrecovery.org/event/ethical-considerations-for-peer-assisted-recovery/
LOCATION:Online
CATEGORIES:Ethical Considerations
END:VEVENT
BEGIN:VEVENT
DTSTART;TZID=America/New_York:20251203T090000
DTEND;TZID=America/New_York:20251203T170000
DTSTAMP:20260425T171539
CREATED:20251017T145322Z
LAST-MODIFIED:20251017T145410Z
UID:10000014-1764752400-1764781200@www.nhrecovery.org
SUMMARY:HIV\, AIDS & Hepatitis for Peer Assisted Recovery
DESCRIPTION:In this training\, participants will differentiate between myths and facts surrounding the transmission of HIV and AIDS. \nFind all events offered by the Archways Forever Hope Training Center. Topics offered include\, but are not limited to: \n\nThe Art & Science of Peer Assisted Recovery\nEthical Considerations for Peer Assisted Recovery\nHIV\, AIDS & Hepatitis for Peer Assisted Recovery\nSuicide Prevention for Peer Assisted Recovery\nCo-Occurring Disorders for Peer Assisted Recovery\n\nExplore all events 
URL:https://www.nhrecovery.org/event/hiv-aids-hepatitis-for-peer-assisted-recovery/
LOCATION:Online
CATEGORIES:HIV/Hep-c
END:VEVENT
BEGIN:VEVENT
DTSTART;TZID=America/New_York:20251204T090000
DTEND;TZID=America/New_York:20251204T170000
DTSTAMP:20260425T171539
CREATED:20251017T145554Z
LAST-MODIFIED:20251205T150103Z
UID:10000015-1764838800-1764867600@www.nhrecovery.org
SUMMARY:Suicide Prevention for Peer Assisted Recovery
DESCRIPTION:Suicide prevention and intervention training that offers knowledge from evidence-based national suicide strategies. \nFind all events offered by the Archways Forever Hope Training Center. Topics offered include\, but are not limited to: \n\nThe Art & Science of Peer Assisted Recovery\nEthical Considerations for Peer Assisted Recovery\nHIV\, AIDS & Hepatitis for Peer Assisted Recovery\nSuicide Prevention for Peer Assisted Recovery\nCo-Occurring Disorders for Peer Assisted Recovery
URL:https://www.nhrecovery.org/event/suicide-prevention-for-peer-assisted-recovery/
LOCATION:Online
CATEGORIES:Suicide Prevention
END:VEVENT
BEGIN:VEVENT
DTSTART;TZID=America/New_York:20251205T090000
DTEND;TZID=America/New_York:20251205T133000
DTSTAMP:20260425T171539
CREATED:20251017T145748Z
LAST-MODIFIED:20251017T145748Z
UID:10000016-1764925200-1764941400@www.nhrecovery.org
SUMMARY:Co-Occurring Disorders for Peer Assisted Recovery
DESCRIPTION:Join us for a gathering focused on supporting individuals in recovery and experiencing co-occurring disorders. \nFind all events offered by the Archways Forever Hope Training Center. Topics offered include\, but are not limited to: \n\nThe Art & Science of Peer Assisted Recovery\nEthical Considerations for Peer Assisted Recovery\nHIV\, AIDS & Hepatitis for Peer Assisted Recovery\nSuicide Prevention for Peer Assisted Recovery\nCo-Occurring Disorders for Peer Assisted Recovery\n\nExplore all events 
URL:https://www.nhrecovery.org/event/co-occurring-disorders-for-peer-assisted-recovery/
LOCATION:Online
CATEGORIES:All Events,The Art and Science of Peer-Assisted Recovery
END:VEVENT
BEGIN:VEVENT
DTSTART;VALUE=DATE:20251208
DTEND;VALUE=DATE:20251210
DTSTAMP:20260425T171539
CREATED:20250918T144429Z
LAST-MODIFIED:20251017T141911Z
UID:10000005-1765152000-1765324799@www.nhrecovery.org
SUMMARY:NH Behavioral Health Summit
DESCRIPTION:The New Hampshire Behavioral Health Summit is the exclusive statewide event in NH for behavioral healthcare providers and organizations\, including mental health and substance use disorders. There is no better opportunity for companies to gain access to many professionals.
URL:https://www.nhrecovery.org/event/nh-behavioral-health-summit/
LOCATION:DoubleTree by Hilton\, Manchester\, New Hampshire
CATEGORIES:All Events,Conferences & Community
END:VEVENT
END:VCALENDAR