BEGIN:VCALENDAR
VERSION:2.0
PRODID:-//The NH Recovery Hub - ECPv6.15.20//NONSGML v1.0//EN
CALSCALE:GREGORIAN
METHOD:PUBLISH
X-WR-CALNAME:The NH Recovery Hub
X-ORIGINAL-URL:https://www.nhrecovery.org
X-WR-CALDESC:Events for The NH Recovery Hub
REFRESH-INTERVAL;VALUE=DURATION:PT1H
X-Robots-Tag:noindex
X-PUBLISHED-TTL:PT1H
BEGIN:VTIMEZONE
TZID:America/New_York
BEGIN:DAYLIGHT
TZOFFSETFROM:-0500
TZOFFSETTO:-0400
TZNAME:EDT
DTSTART:20240310T070000
END:DAYLIGHT
BEGIN:STANDARD
TZOFFSETFROM:-0400
TZOFFSETTO:-0500
TZNAME:EST
DTSTART:20241103T060000
END:STANDARD
BEGIN:DAYLIGHT
TZOFFSETFROM:-0500
TZOFFSETTO:-0400
TZNAME:EDT
DTSTART:20250309T070000
END:DAYLIGHT
BEGIN:STANDARD
TZOFFSETFROM:-0400
TZOFFSETTO:-0500
TZNAME:EST
DTSTART:20251102T060000
END:STANDARD
BEGIN:DAYLIGHT
TZOFFSETFROM:-0500
TZOFFSETTO:-0400
TZNAME:EDT
DTSTART:20260308T070000
END:DAYLIGHT
BEGIN:STANDARD
TZOFFSETFROM:-0400
TZOFFSETTO:-0500
TZNAME:EST
DTSTART:20261101T060000
END:STANDARD
END:VTIMEZONE
BEGIN:VEVENT
DTSTART;TZID=America/New_York:20250925T090000
DTEND;TZID=America/New_York:20250925T150000
DTSTAMP:20260425T161519
CREATED:20250918T125435Z
LAST-MODIFIED:20250918T125435Z
UID:10000004-1758790800-1758812400@www.nhrecovery.org
SUMMARY:NHADACA Annual Meeting & Keynote: "Cannabis-Induced Psychosis"
DESCRIPTION:The NH Alcohol & Drug Abuse Counselors Association will meet for our annual membership and business meeting. All members and interested people are invited to attend. Association business will include updates and exciting changes at NHADACA\, professional recognition awards\, and board of director election results. A keynote on cannabis-induced psychosis will follow the meeting.
URL:https://www.nhrecovery.org/event/nhadaca-annual-meeting-keynote-cannabis-induced-psychosis/
LOCATION:Mills Falls at the Lake (Chase House; Meredith\, NH)\, 300 Daniel Webster Highway\, Meredith\, New Hampshire\, 03253
CATEGORIES:All Events
END:VEVENT
END:VCALENDAR