BEGIN:VCALENDAR
VERSION:2.0
PRODID:-//The NH Recovery Hub - ECPv6.15.20//NONSGML v1.0//EN
CALSCALE:GREGORIAN
METHOD:PUBLISH
X-ORIGINAL-URL:https://www.nhrecovery.org
X-WR-CALDESC:Events for The NH Recovery Hub
REFRESH-INTERVAL;VALUE=DURATION:PT1H
X-Robots-Tag:noindex
X-PUBLISHED-TTL:PT1H
BEGIN:VTIMEZONE
TZID:America/New_York
BEGIN:DAYLIGHT
TZOFFSETFROM:-0500
TZOFFSETTO:-0400
TZNAME:EDT
DTSTART:20240310T070000
END:DAYLIGHT
BEGIN:STANDARD
TZOFFSETFROM:-0400
TZOFFSETTO:-0500
TZNAME:EST
DTSTART:20241103T060000
END:STANDARD
BEGIN:DAYLIGHT
TZOFFSETFROM:-0500
TZOFFSETTO:-0400
TZNAME:EDT
DTSTART:20250309T070000
END:DAYLIGHT
BEGIN:STANDARD
TZOFFSETFROM:-0400
TZOFFSETTO:-0500
TZNAME:EST
DTSTART:20251102T060000
END:STANDARD
BEGIN:DAYLIGHT
TZOFFSETFROM:-0500
TZOFFSETTO:-0400
TZNAME:EDT
DTSTART:20260308T070000
END:DAYLIGHT
BEGIN:STANDARD
TZOFFSETFROM:-0400
TZOFFSETTO:-0500
TZNAME:EST
DTSTART:20261101T060000
END:STANDARD
END:VTIMEZONE
BEGIN:VEVENT
DTSTART;VALUE=DATE:20250918
DTEND;VALUE=DATE:20250919
DTSTAMP:20260425T175523
CREATED:20250918T145942Z
LAST-MODIFIED:20250918T145942Z
UID:10000006-1758153600-1758239999@www.nhrecovery.org
SUMMARY:Archways Rally for Recovery
DESCRIPTION:11a-3p \nState House Lawn\, Concord \nVisit Archways for more information. \n  \n 
URL:https://www.nhrecovery.org/event/archways-rally-for-recovery/
LOCATION:New Hampshire State House\, 107 N Main St\,\, Concord\, NH\, 03301
CATEGORIES:All Events
END:VEVENT
END:VCALENDAR