BEGIN:VCALENDAR
VERSION:2.0
PRODID:-//The NH Recovery Hub - ECPv6.15.20//NONSGML v1.0//EN
CALSCALE:GREGORIAN
METHOD:PUBLISH
X-WR-CALNAME:The NH Recovery Hub
X-ORIGINAL-URL:https://www.nhrecovery.org
X-WR-CALDESC:Events for The NH Recovery Hub
REFRESH-INTERVAL;VALUE=DURATION:PT1H
X-Robots-Tag:noindex
X-PUBLISHED-TTL:PT1H
BEGIN:VTIMEZONE
TZID:America/New_York
BEGIN:DAYLIGHT
TZOFFSETFROM:-0500
TZOFFSETTO:-0400
TZNAME:EDT
DTSTART:20240310T070000
END:DAYLIGHT
BEGIN:STANDARD
TZOFFSETFROM:-0400
TZOFFSETTO:-0500
TZNAME:EST
DTSTART:20241103T060000
END:STANDARD
BEGIN:DAYLIGHT
TZOFFSETFROM:-0500
TZOFFSETTO:-0400
TZNAME:EDT
DTSTART:20250309T070000
END:DAYLIGHT
BEGIN:STANDARD
TZOFFSETFROM:-0400
TZOFFSETTO:-0500
TZNAME:EST
DTSTART:20251102T060000
END:STANDARD
BEGIN:DAYLIGHT
TZOFFSETFROM:-0500
TZOFFSETTO:-0400
TZNAME:EDT
DTSTART:20260308T070000
END:DAYLIGHT
BEGIN:STANDARD
TZOFFSETFROM:-0400
TZOFFSETTO:-0500
TZNAME:EST
DTSTART:20261101T060000
END:STANDARD
END:VTIMEZONE
BEGIN:VEVENT
DTSTART;TZID=America/New_York:20251027T080000
DTEND;TZID=America/New_York:20251027T160000
DTSTAMP:20260425T161632
CREATED:20250918T171931Z
LAST-MODIFIED:20250918T171931Z
UID:10000008-1761552000-1761580800@www.nhrecovery.org
SUMMARY:Using Recovery Language: Own Your Story\, Influence Public Opinion and Policy
DESCRIPTION:Using Recovery Language: Own Your Story\, Influence Public Opinion and Policy \nMonday\, October 27\, 2025 \n8:30am – 4:30pm \nNH Audubon Society\n84 Silk Farm Road\nConcord\, NH 03301\nLunch will be provided by In a Pinch Cafe & Bakery. \nCEUs will be available for participants who attend the entire session. \nPlease fill out the registration form. The FINAL deadline to register for this training is Tuesday\, October 20\, 2025 at noon.\nRegistration is limited to 100 participants.
URL:https://www.nhrecovery.org/event/using-recovery-language-own-your-story-influence-public-opinion-and-policy/
LOCATION:NH Audubon\, 84 Silk Farm Road\, Concord\, New Hampshire
CATEGORIES:All Events
END:VEVENT
END:VCALENDAR