BEGIN:VCALENDAR
VERSION:2.0
PRODID:-//The NH Recovery Hub - ECPv6.15.20//NONSGML v1.0//EN
CALSCALE:GREGORIAN
METHOD:PUBLISH
X-ORIGINAL-URL:https://www.nhrecovery.org
X-WR-CALDESC:Events for The NH Recovery Hub
REFRESH-INTERVAL;VALUE=DURATION:PT1H
X-Robots-Tag:noindex
X-PUBLISHED-TTL:PT1H
BEGIN:VTIMEZONE
TZID:America/New_York
BEGIN:DAYLIGHT
TZOFFSETFROM:-0500
TZOFFSETTO:-0400
TZNAME:EDT
DTSTART:20240310T070000
END:DAYLIGHT
BEGIN:STANDARD
TZOFFSETFROM:-0400
TZOFFSETTO:-0500
TZNAME:EST
DTSTART:20241103T060000
END:STANDARD
BEGIN:DAYLIGHT
TZOFFSETFROM:-0500
TZOFFSETTO:-0400
TZNAME:EDT
DTSTART:20250309T070000
END:DAYLIGHT
BEGIN:STANDARD
TZOFFSETFROM:-0400
TZOFFSETTO:-0500
TZNAME:EST
DTSTART:20251102T060000
END:STANDARD
BEGIN:DAYLIGHT
TZOFFSETFROM:-0500
TZOFFSETTO:-0400
TZNAME:EDT
DTSTART:20260308T070000
END:DAYLIGHT
BEGIN:STANDARD
TZOFFSETFROM:-0400
TZOFFSETTO:-0500
TZNAME:EST
DTSTART:20261101T060000
END:STANDARD
END:VTIMEZONE
BEGIN:VEVENT
DTSTART;TZID=America/New_York:20251023T180000
DTEND;TZID=America/New_York:20251023T210000
DTSTAMP:20260425T162301
CREATED:20250824T133518Z
LAST-MODIFIED:20250824T133518Z
UID:10000003-1761242400-1761253200@www.nhrecovery.org
SUMMARY:A Dance with Death: Murder Mystery Fundraiser (Revive Recovery)
DESCRIPTION:1960s Edition: A Night of Groovy Intrigue and Murderous Mystery! \nSupport Revive Recovery while immersing yourself in a night of mystery\, music\, and mayhem! \nWant to be part of the mystery? Become a sponsor and help support Revive Recovery’s mission while enjoying a thrilling\, interactive event with a groovy ‘60s twist! \nChoose your sponsorship level or purchase your tickets and help bring healing and recovery to those in need.
URL:https://www.nhrecovery.org/event/a-dance-with-death-murder-mystery-fundraiser-revive-recovery/
LOCATION:The Venues at the Factory\, 252 Willow Street\, Manchester\, NH\, 03103\, United States
CATEGORIES:All Events
END:VEVENT
END:VCALENDAR