BEGIN:VCALENDAR
VERSION:2.0
PRODID:-//The NH Recovery Hub - ECPv6.15.20//NONSGML v1.0//EN
CALSCALE:GREGORIAN
METHOD:PUBLISH
X-WR-CALNAME:The NH Recovery Hub
X-ORIGINAL-URL:https://www.nhrecovery.org
X-WR-CALDESC:Events for The NH Recovery Hub
REFRESH-INTERVAL;VALUE=DURATION:PT1H
X-Robots-Tag:noindex
X-PUBLISHED-TTL:PT1H
BEGIN:VTIMEZONE
TZID:America/New_York
BEGIN:DAYLIGHT
TZOFFSETFROM:-0500
TZOFFSETTO:-0400
TZNAME:EDT
DTSTART:20240310T070000
END:DAYLIGHT
BEGIN:STANDARD
TZOFFSETFROM:-0400
TZOFFSETTO:-0500
TZNAME:EST
DTSTART:20241103T060000
END:STANDARD
BEGIN:DAYLIGHT
TZOFFSETFROM:-0500
TZOFFSETTO:-0400
TZNAME:EDT
DTSTART:20250309T070000
END:DAYLIGHT
BEGIN:STANDARD
TZOFFSETFROM:-0400
TZOFFSETTO:-0500
TZNAME:EST
DTSTART:20251102T060000
END:STANDARD
BEGIN:DAYLIGHT
TZOFFSETFROM:-0500
TZOFFSETTO:-0400
TZNAME:EDT
DTSTART:20260308T070000
END:DAYLIGHT
BEGIN:STANDARD
TZOFFSETFROM:-0400
TZOFFSETTO:-0500
TZNAME:EST
DTSTART:20261101T060000
END:STANDARD
END:VTIMEZONE
BEGIN:VEVENT
DTSTART;TZID=America/New_York:20250927T110000
DTEND;TZID=America/New_York:20250927T150000
DTSTAMP:20260425T161854
CREATED:20250918T172253Z
LAST-MODIFIED:20250918T172253Z
UID:10000009-1758970800-1758985200@www.nhrecovery.org
SUMMARY:Hope Recovery Festival
DESCRIPTION:We’re bringing the recovery community together again—and it’s going to be powerful. Think speakers\, music\, local vendors\, and peer support. It’s more than an event—it’s living proof that recovery is real\, and our stories are our strength.
URL:https://www.nhrecovery.org/event/hope-recovery-festival/
LOCATION:Veterans Memorial Park\, Downtown Manchester\, Manchester\, New Hampshire
CATEGORIES:All Events
END:VEVENT
END:VCALENDAR